BEGIN:VCALENDAR
VERSION:2.0
PRODID:-//My Community Diary//iCal Event//EN
CALSCALE:GREGORIAN
METHOD:PUBLISH
BEGIN:VEVENT
UID:368df57a-d71f-4c45-b2f7-058ff35cb75c
DTSTAMP:20260423T140515Z
DTSTART;VALUE=DATE:20260502
DTEND;VALUE=DATE:20260503
SUMMARY:The Olive Tree Market
DESCRIPTION:The Olive Tree Market features a curated line-up of over 130 of the best emerging and established artists\, designers\, makers\, gourmet artisan food producers\, and delicious street food purveyors each month. \n\nJoin them on the first Saturday of every month to support local creators & enjoy some of the tastiest food and drinks Newcastle has to offer!
LOCATION:\, King Street\, Newcastle\, NSW 2300\, NSW\, 2300
RRULE:FREQ=DAILY;INTERVAL=1;UNTIL=20260504T000000Z
END:VEVENT
END:VCALENDAR
