BEGIN:VCALENDAR
VERSION:2.0
PRODID:-//My Community Diary//iCal Event//EN
CALSCALE:GREGORIAN
METHOD:PUBLISH
BEGIN:VEVENT
UID:37358210-9944-4452-93b0-14fbd7854342
DTSTAMP:20260424T160634Z
DTSTART:20210112T080000Z
DTEND:20210112T170000Z
SUMMARY:Physician - Psychiatry - Adult - Emerald
DESCRIPTION:Julian Boulnois Medical Pty Ltd at Belman House. Please confirm precise times with the service provider.
LOCATION:\, 47 Anakie Street\, Emerald\, QLD\, 4720\, QLD\, 4720
END:VEVENT
END:VCALENDAR
