BEGIN:VCALENDAR
VERSION:2.0
PRODID:-//My Community Diary//iCal Event//EN
CALSCALE:GREGORIAN
METHOD:PUBLISH
BEGIN:VEVENT
UID:2832386f-952b-4f3c-a976-62751e7467ca
DTSTAMP:20260424T160919Z
DTSTART;TZID=E. Australia Standard Time:20220511T103000
DTEND;TZID=E. Australia Standard Time:20220511T123000
SUMMARY:FREE community lunch
DESCRIPTION:FREE lunch\, from 10:00am every Wednesday.&nbsp\;\n\nJoin us for good food and great mateship.&nbsp\;\n
LOCATION:Central Church Ipswich - Hall \, 6 Gordon Street\, Ipswich QLD\, Australia\, QLD\, 4305
RRULE:FREQ=WEEKLY;INTERVAL=1;BYDAY=WE
END:VEVENT
END:VCALENDAR
