BEGIN:VCALENDAR
VERSION:2.0
PRODID:-//My Community Diary//iCal Event//EN
CALSCALE:GREGORIAN
METHOD:PUBLISH
BEGIN:VEVENT
UID:de44b325-ef75-444f-ae7f-12d2b1db32c3
DTSTAMP:20260422T021747Z
DTSTART;VALUE=DATE:20261114
DTEND;VALUE=DATE:20261115
SUMMARY:The Newcastle Herald Hunter Race Day
DESCRIPTION:Newcastle's biggest day on the track is back.\n\nAll eyes will be on The Hunter\, the city's AUD1 million racing spectacular. This isn't just another race day. It's an event that stops Newcastle\, drawing Australia's fastest horses\, the nation's top jockeys and a crowd ready for an unforgettable celebration. \n\nFeaturing a blockbuster 10-race program with more than AUD2.59 million in prize money\, the atmosphere will be nothing short of electric. Every race is a showdown\, every cheer is louder\, every moment counts.\n\nExpect top tier entertainment after the last race for a party which lasts well into the evening. \n\nFrom high-octane racing to dazzling fashions\, gourmet food\, premium hospitality and music to move the crowd\, The Newcastle Herald Hunter Race Day is where Newcastle comes alive.\n\nStay tuned for when tickets go on sale.\n\nEntry Cost\nAll tickets $20 
LOCATION:\, Darling Street\, Broadmeadow\, NSW 2292\, NSW\, 2292
END:VEVENT
END:VCALENDAR
