BEGIN:VCALENDAR
VERSION:2.0
PRODID:-//My Community Diary//iCal Event//EN
CALSCALE:GREGORIAN
METHOD:PUBLISH
BEGIN:VEVENT
UID:f320f1f6-24e5-4511-8cce-8bc03992e0d6
DTSTAMP:20260421T224249Z
DTSTART;VALUE=DATE:20261123
DTEND;VALUE=DATE:20261124
SUMMARY:The Neighbour at the Gate
DESCRIPTION:A National Art School touring exhibition.\n\nThe Neighbour at the Gate is a major exhibition presented by the National Art School Gallery\, with a guest Curatorium led by Clothilde Bullen (Wardandi Noongar and Badimaya Yamatji) with Micheal Do and Zali Morgan (Whadjuk Balladong and Wilman Noongar).\n\nBringing together newly commissioned works by leading Australian artists Jacky Cheng\, Elham Eshraghian-Haakansson\, Dennis Golding (Kamilaroi/Gamilaraay)\, Jenna Mayilema Lee (Gulumerridjin (Larrakia)\, Wardaman\, KarraJarri)\, James Nguyen and James Tylor (Kaurna\, Thura-Yura language region)\, the exhibition reckons with the echoes of colonialism and immigration policies in Australia\, unravelling how these forces continue to shape First Nations and Asian Australian experiences and relationships.\n\nAcross various mediums and perspectives\, The Neighbour at the Gate charts the entangled legacies of exclusion and resilience\, drawing vital parallels between the past and present\, memory and nationhood.
LOCATION:\, Corner of Clarence and Hay Streets\, Port Macquarie\, NSW 2444\, NSW\, 2444
RRULE:FREQ=DAILY;INTERVAL=1;UNTIL=20261125T000000Z
END:VEVENT
END:VCALENDAR
