BEGIN:VCALENDAR
VERSION:2.0
PRODID:-//My Community Diary//iCal Event//EN
CALSCALE:GREGORIAN
METHOD:PUBLISH
BEGIN:VEVENT
UID:934a71c9-d1bf-4fcb-80d6-40939468ef88
DTSTAMP:20260422T015735Z
DTSTART;VALUE=DATE:20260802
DTEND;VALUE=DATE:20260803
SUMMARY:The Midwifes Palette - Lise Hetzel
DESCRIPTION:A collection of paintings and sculptures inspired by the intimate and transformative experience of birth as seen Through the Eyes of a Midwife.  \n\nCreated by Lise Hetzel - a Midwife with over 30 years of experience\, the artworks capture pivotal moments in the lives of women and their babies\, revealing birth not as a clinical event\, but as a deeply personal and empowering journey.
LOCATION:\, 47 Church St\, Bega\, NSW 2550\, NSW\, 2550
RRULE:FREQ=DAILY;INTERVAL=1;UNTIL=20260804T000000Z
END:VEVENT
END:VCALENDAR
