BEGIN:VCALENDAR
VERSION:2.0
PRODID:-//My Community Diary//iCal Event//EN
CALSCALE:GREGORIAN
METHOD:PUBLISH
BEGIN:VEVENT
UID:9c69ca17-ba48-4331-be75-ea927b5df325
DTSTAMP:20260422T035740Z
DTSTART;VALUE=DATE:20260809
DTEND;VALUE=DATE:20260810
SUMMARY:The Market at Bungendore
DESCRIPTION:The Market at Bungendore is open on the second Sunday of every even month.\n\nShop or browse for their unique local produce\, products\, art and crafts and general stalls. Light lunch and great coffee available from the kitchen.\n\nMake a day out of it and explore the rest of Bungendore\, only a 25 minute drive from Canberra.
LOCATION:\, 51 Molonglo Street Lot 7\, Bungendore\, NSW 2621\, NSW\, 2621
RRULE:FREQ=DAILY;INTERVAL=1;UNTIL=20260811T000000Z
END:VEVENT
END:VCALENDAR
