BEGIN:VCALENDAR
VERSION:2.0
PRODID:-//My Community Diary//iCal Event//EN
CALSCALE:GREGORIAN
METHOD:PUBLISH
BEGIN:VEVENT
UID:eefdecea-c3fd-41f5-82e6-5d7cfd043a76
DTSTAMP:20260421T211534Z
DTSTART;VALUE=DATE:20260614
DTEND;VALUE=DATE:20260615
SUMMARY:The Market at Bungendore
DESCRIPTION:The Market at Bungendore is open on the second Sunday of every even month.\n\nShop or browse for their unique local produce\, products\, art and crafts and general stalls. Light lunch and great coffee available from the kitchen.\n\nMake a day out of it and explore the rest of Bungendore\, only a 25 minute drive from Canberra.
LOCATION:\, 51 Molonglo Street Lot 7\, Bungendore\, NSW 2621\, NSW\, 2621
RRULE:FREQ=DAILY;INTERVAL=1;UNTIL=20260616T000000Z
END:VEVENT
END:VCALENDAR
