BEGIN:VCALENDAR
VERSION:2.0
PRODID:-//My Community Diary//iCal Event//EN
CALSCALE:GREGORIAN
METHOD:PUBLISH
BEGIN:VEVENT
UID:6ed5d54d-0e84-47c4-b86a-93db752b6a97
DTSTAMP:20260422T015736Z
DTSTART;VALUE=DATE:20260607
DTEND;VALUE=DATE:20260608
SUMMARY:The Luddenham Market
DESCRIPTION:Come down to Luddenham Showground for a great market experience! \n\nEnjoy a relaxed country-style market set in the heart of gorgeous rural Luddenham (on the doorstep of the new airport!).\n\nShowcasing local makers\, creators & small businesses\, enjoy a Sunday market stroll.
LOCATION:\, Park Road\, Luddenham\, NSW 2745\, NSW\, 2745
RRULE:FREQ=DAILY;INTERVAL=1;UNTIL=20260609T000000Z
END:VEVENT
END:VCALENDAR
