BEGIN:VCALENDAR
VERSION:2.0
PRODID:-//My Community Diary//iCal Event//EN
CALSCALE:GREGORIAN
METHOD:PUBLISH
BEGIN:VEVENT
UID:c35c7696-1d4d-4ab4-b5f6-da37c7c66b8b
DTSTAMP:20260422T015801Z
DTSTART;VALUE=DATE:20260503
DTEND;VALUE=DATE:20260504
SUMMARY:The Luddenham Market
DESCRIPTION:Come down to Luddenham Showground for a great market experience! \n\nEnjoy a relaxed country-style market set in the heart of gorgeous rural Luddenham (on the doorstep of the new airport!).\n\nShowcasing local makers\, creators & small businesses\, enjoy a Sunday market stroll.
LOCATION:\, Park Road\, Luddenham\, NSW 2745\, NSW\, 2745
RRULE:FREQ=DAILY;INTERVAL=1;UNTIL=20260505T000000Z
END:VEVENT
END:VCALENDAR
