BEGIN:VCALENDAR
VERSION:2.0
PRODID:-//My Community Diary//iCal Event//EN
CALSCALE:GREGORIAN
METHOD:PUBLISH
BEGIN:VEVENT
UID:78ad9e45-359d-4108-a47e-61ebdedd7739
DTSTAMP:20260422T005100Z
DTSTART;VALUE=DATE:20260607
DTEND;VALUE=DATE:20260608
SUMMARY:The Loxford Maitland Running Festival
DESCRIPTION:Offering a new 2 lap half marathon events\, the existing picturesque course in and around the Mall and River Bank of the Maitland central business district\, is open to novice and elite competitors. \n\nYou can either run or walk the one lap four kilometre course\, two lap eight kilometre course or the three lap twelve kilometre course. There is also a new 2 lap half marathon events.
LOCATION:\, High Street\, Maitland\, NSW 2320\, NSW\, 2320
END:VEVENT
END:VCALENDAR
