BEGIN:VCALENDAR
VERSION:2.0
PRODID:-//My Community Diary//iCal Event//EN
CALSCALE:GREGORIAN
METHOD:PUBLISH
BEGIN:VEVENT
UID:4e68a228-6346-4795-8a8c-8a87572f4c91
DTSTAMP:20260421T224100Z
DTSTART;VALUE=DATE:20260424
DTEND;VALUE=DATE:20260425
SUMMARY:The Kiss Arts Festival
DESCRIPTION:A seaside celebration of the spectacular\, the silly and the sublime! A side-splitting\, hand-clapping\, wave-splashing\, toe-tapping performance feast – where the fringes of Kiama’s Black Beach are transformed for one wondrous weekend into a vibrant village filled with art\, heart and the chance to take part. \n \nSay hello to a jam-packed playground of international acts\, local talent\, unique experiences and pure entertainment. Lanterns\, lampposts and laughter. Circus troupes and hula-hoops. Music\, mirth\, mischief and mayhem.\n \nKiss goodbye to boring – and be part of the fun!\n\nA unique festival mixing world-class variety\, circus\, music and comedy with community engagement. Designed to create shared joy and laughter for a multigenerational audience.
LOCATION:\, Terralong Street\, Kiama\, NSW 2533\, NSW\, 2533
RRULE:FREQ=DAILY;INTERVAL=1;UNTIL=20260426T000000Z
END:VEVENT
END:VCALENDAR
