BEGIN:VCALENDAR
VERSION:2.0
PRODID:-//My Community Diary//iCal Event//EN
CALSCALE:GREGORIAN
METHOD:PUBLISH
BEGIN:VEVENT
UID:1e637268-bb34-40f0-bf8c-f2c6d892a8b8
DTSTAMP:20260422T033644Z
DTSTART;VALUE=DATE:20260523
DTEND;VALUE=DATE:20260524
SUMMARY:The Killer Queen Experience - Tweed Heads
DESCRIPTION:Formed in 2003\, The Killer Queen Experience has risen from a local Brisbane-based Queen cover band to an international touring show and is Australia’s most sought-after tribute act today. Meeting Queen in 2020 is the highlight of their career!\n\nKiller Queen has taken their show across the globe\, including the UK\, Norway\, Singapore and India. In May 2019\, Killer Queen performed in Russia for the first time. They have also shared the bill with the likes of Jeff Beck\, Foreigner\, Journey\, Twisted Sister\, Thin Lizzy and Kelly Rowland. \n\nJohn Blunt’s (lead singer) resemblance to Freddie Mercury is uncanny\, appearing live to seven million viewers on the French TV show “Qui Sera Le Meilleur Sosie? -  Who will be the best impersonator” and John was chosen by UK’s ITV Channel 5 for the docu/drama “The Freddie Mercury Story – Who Wants to Live Forever”\, a detailed look into the personal life and death of Freddie Mercury\, screening in the UK\, Europe and North America in 2016.\n\nThis two-hour live show consists of all Queen's Greatest Hits (and stage costumes)\, including Bohemian Rhapsody\, We Will Rock You\, We Are the Champions\, Somebody to Love\, Radio Ga Ga\, Another One Bites the Dust and many more.\n\nThis will be an unforgettable Killer Queen Experience!
LOCATION:\, 2 Wharf Street\, Tweed Heads\, NSW 2485\, NSW\, 2485
END:VEVENT
END:VCALENDAR
