BEGIN:VCALENDAR
VERSION:2.0
PRODID:-//My Community Diary//iCal Event//EN
CALSCALE:GREGORIAN
METHOD:PUBLISH
BEGIN:VEVENT
UID:81e8be6f-47d5-4613-9d7c-e52d67f1a3a8
DTSTAMP:20260422T051151Z
DTSTART;VALUE=DATE:20261010
DTEND;VALUE=DATE:20261011
SUMMARY:The Joe Cocker Express: Mad Dog & The Englishman
DESCRIPTION:"The Joe Cocker Express: Mad Dog vs. The Englishman" is an extraordinary tribute show that takes you on a journey through the legendary career of Joe Cocker\, capturing the essence of two defining eras in his life.\n\nThis dynamic performance begins with the soulful\, mature sounds of Cocker's later years—known as "The Englishman"—before diving into the raw\, gritty energy of his early career as the "Mad Dog."\n\nDon't miss this unforgettable tribute to one of rock and soul's greatest voices.
LOCATION:\, 1 Grant Street\, Ballina\, NSW 2478\, NSW\, 2478
END:VEVENT
END:VCALENDAR
