BEGIN:VCALENDAR
VERSION:2.0
PRODID:-//My Community Diary//iCal Event//EN
CALSCALE:GREGORIAN
METHOD:PUBLISH
BEGIN:VEVENT
UID:b0b13c0c-eef5-4d39-9e63-65346fabff9c
DTSTAMP:20260422T015732Z
DTSTART;VALUE=DATE:20260628
DTEND;VALUE=DATE:20260629
SUMMARY:The Iliad Out Loud | Four Winds
DESCRIPTION:First performed for the 2021 Four Winds Festival\, this Sydney and Adelaide Festival hit returns to the Windsong Pavilion presenting Homer's epic poem for a marathon one day performance by actor writer William Zappa\, accompanied by Persian tar/oud player Hamed Sadeghi and percussionist Sohrab Kolahdooz.\n\nHomer's?Iliad?is the HBO series of the classics – the greatest story of heroism\, betrayal and war. The world's oldest 'performed story' is thrillingly brought to life by actor and playwright William Zappa in this rhythmic adaptation – complete with episode recaps and accompanied by a live score of percussion and tar. Presented in one day\, audiences can book individual sessions or settle in for a full day to binge-watch this thrillingly immediate staging of a seminal statement on humanity.\n\nZappa's sonorous voice introduces and guides listeners through the ancient but urgently relevant epic set during the Greek decade-long siege of Troy. Rather than a glorification of war\, The Illiad Out Loud issues a warning as relevant today as it was in ancient times.\n\nEntry Cost\nAll tickets $0  - Performance includes 3 x 2hr parts\, with 1hr intervals between each \n\nPart 1\, 2 & 3 each:\n $47 General Admission $37 Concession\, 16&U FREE or 3 Parts $120
LOCATION:\, 17 Four Winds Road\, Barragga Bay\, NSW 2546\, NSW\, 2546
END:VEVENT
END:VCALENDAR
