BEGIN:VCALENDAR
VERSION:2.0
PRODID:-//My Community Diary//iCal Event//EN
CALSCALE:GREGORIAN
METHOD:PUBLISH
BEGIN:VEVENT
UID:fa113599-a625-45de-ab7f-505ee7072b7b
DTSTAMP:20260421T224108Z
DTSTART;VALUE=DATE:20260524
DTEND;VALUE=DATE:20260525
SUMMARY:The Hunter Valley Outdoor Show
DESCRIPTION:The  Hunter Valley Outdoor Show has loads of exhibits and entertainment and food over the three days. It's a day not to be missed. A day for all the family!\n\nWith over 300 companies represented\, loads of entertainment for the whole family\, camp oven cooking\, fishing demonstrations\, bike show and so much more!
LOCATION:\, Blomfield Street\, Maitland\, NSW 2320\, NSW\, 2320
RRULE:FREQ=DAILY;INTERVAL=1;UNTIL=20260526T000000Z
END:VEVENT
END:VCALENDAR
