BEGIN:VCALENDAR
VERSION:2.0
PRODID:-//My Community Diary//iCal Event//EN
CALSCALE:GREGORIAN
METHOD:PUBLISH
BEGIN:VEVENT
UID:13a6316b-4413-4ef4-8bad-798430ba994f
DTSTAMP:20260422T021745Z
DTSTART;VALUE=DATE:20260522
DTEND;VALUE=DATE:20260523
SUMMARY:The Hunter Valley Outdoor Show
DESCRIPTION:The  Hunter Valley Outdoor Show has loads of exhibits and entertainment and food over the three days. It's a day not to be missed. A day for all the family!\n\nWith over 300 companies represented\, loads of entertainment for the whole family\, camp oven cooking\, fishing demonstrations\, bike show and so much more!
LOCATION:\, Blomfield Street\, Maitland\, NSW 2320\, NSW\, 2320
RRULE:FREQ=DAILY;INTERVAL=1;UNTIL=20260524T000000Z
END:VEVENT
END:VCALENDAR
