BEGIN:VCALENDAR
VERSION:2.0
PRODID:-//My Community Diary//iCal Event//EN
CALSCALE:GREGORIAN
METHOD:PUBLISH
BEGIN:VEVENT
UID:07865efa-afde-47c1-b7df-10af3332fed1
DTSTAMP:20260421T210324Z
DTSTART;VALUE=DATE:20260830
DTEND;VALUE=DATE:20260831
SUMMARY:The Hunter Valley Home Show
DESCRIPTION:Hunter Valley Home Show will provide a unique opportunity for exhibitors to showcase a large variety of products to patrons in one of Australia's fastest growing regions outside of Sydney.\n\nPatrons will be able to see all the various displays and also take part in the many "home" renovations and demonstrations that will be on each day.\n\nTips and tricks for the beginners and good old fashion practical demos and advice for all attending – whether your building\, renovating or landscaping.
LOCATION:\, Blomfield Street\, Maitland\, NSW 2320\, NSW\, 2320
RRULE:FREQ=DAILY;INTERVAL=1;UNTIL=20260901T000000Z
END:VEVENT
END:VCALENDAR
