BEGIN:VCALENDAR
VERSION:2.0
PRODID:-//My Community Diary//iCal Event//EN
CALSCALE:GREGORIAN
METHOD:PUBLISH
BEGIN:VEVENT
UID:042f89b2-c26d-4a7a-8410-66a3623a5166
DTSTAMP:20260422T005138Z
DTSTART;VALUE=DATE:20261121
DTEND;VALUE=DATE:20261122
SUMMARY:The Hawkesbury Country Christmas Market
DESCRIPTION:The Hawkesbury Country Christmas Markets is back!\n\nHead to Hawkesbury Racecourse this November to celebrate the festive season - there will be a bar\, food trucks\, musicians\, loads of retail and more.\n\nThere is plenty of exciting things planned\, and the amazing lineup of small\, local businesses means there will be a little of something for everybody!
LOCATION:\, 1 Racecourse Road\, Clarendon\, NSW 2756\, NSW\, 2756
RRULE:FREQ=DAILY;INTERVAL=1;UNTIL=20261123T000000Z
END:VEVENT
END:VCALENDAR
