BEGIN:VCALENDAR
VERSION:2.0
PRODID:-//My Community Diary//iCal Event//EN
CALSCALE:GREGORIAN
METHOD:PUBLISH
BEGIN:VEVENT
UID:2231bf39-d5b0-455e-8131-15cac449062d
DTSTAMP:20260422T014617Z
DTSTART;VALUE=DATE:20260425
DTEND;VALUE=DATE:20260426
SUMMARY:The Gum Ball
DESCRIPTION:Your beloved boutique escape\, The Gum Ball returns to the hallowed grounds of Dashville in April 2026 for the 21st edition. \n\nThe Gum Ball is an intimate and family-friendly celebration of music\, arts and culture\, hosting an impressive line-up of Australian and international acts\, plus the cream of local rising stars. \n\nFull weekend tickets include three days of festival and three nights camping\, Friday\, Saturday and Sunday. For those that simply can't wait\, there is an extra night of music on Thursday\, which requires an additional ticket purchase on top of the festival ticket\, with camping included.\n\nThe festival also features a tantalising mix of food\, market stalls\, kid's activities\, indigenous learning\, creative workshops and other natural wonders. The festival also offers boutique-style accommodation in the form of 'Glamping' as an Optional Extra via their friends at Belle Glamping.
LOCATION:\, 103 Kirkton Rd\, Lower Belford\, NSW 2335\, NSW\, 2335
RRULE:FREQ=DAILY;INTERVAL=1;UNTIL=20260427T000000Z
END:VEVENT
END:VCALENDAR
