BEGIN:VCALENDAR
VERSION:2.0
PRODID:-//My Community Diary//iCal Event//EN
CALSCALE:GREGORIAN
METHOD:PUBLISH
BEGIN:VEVENT
UID:da2f2485-77f2-498b-bf55-650c38e062ce
DTSTAMP:20260421T210317Z
DTSTART;VALUE=DATE:20260904
DTEND;VALUE=DATE:20260905
SUMMARY:The Gospel According to Paul
DESCRIPTION:After critically acclaimed sell-out seasons across the country\, this unmissable political satire returns to office.\n\nA soufflé might not rise twice\, but this hit comedy will!\n\nThe sermon on the mount returns to our stages for a victory lap as Jonathan Biggins – co-creator and star of The Wharf Revue and one of Australia's favourite comic actors – transforms into the visionary\, reformer and rabble-rouser\, Paul Keating.\n\nExploring the former PM's landmark political achievements and personal obsessions\, The Gospel According to Paul takes the light on the hill and shines it on a man who grew up in the Labor Party at the knee of Jack Lang\, approached economics as an artform\, and demanded we confront the wrongs of our past. This production captures Keating's eviscerating Question Time wit and wraps it up in a Zegna suit.\n\nWith fresh takes on Keating's recent media moments and zeitgeist zingers\, no scumbag is safe in this show\, not even our humble narrator.
LOCATION:\, 5 Parramatta Square\, Parramatta\, NSW 2150\, NSW\, 2150
RRULE:FREQ=DAILY;INTERVAL=1;UNTIL=20260906T000000Z
END:VEVENT
END:VCALENDAR
