BEGIN:VCALENDAR
VERSION:2.0
PRODID:-//My Community Diary//iCal Event//EN
CALSCALE:GREGORIAN
METHOD:PUBLISH
BEGIN:VEVENT
UID:45b240cc-d36a-40ac-b09f-72a4e5dbc053
DTSTAMP:20260422T072351Z
DTSTART;VALUE=DATE:20261031
DTEND;VALUE=DATE:20261101
SUMMARY:The Everly Brothers and Roy Orbison
DESCRIPTION:Celebrating The Everly Brothers And Roy Orbison's 70th Anniversary!\n\nAustralia's number one vocal duo\, the much-loved Robertson Brothers\, join forces with the internationally acclaimed Dean Bourne — the world's greatest Roy Orbison tribute artist — and the Variety Show team for an unforgettable two-hour audio-visual spectacular.\n\nThis unique concert also showcases the hits by The Beatles\, The Hollies and Simon & Garfunkel that were inspired and influenced by the Everly Brothers iconic songs and harmonies.\nFor the first time ever\, you'll experience the soaring harmonies of Phil and Don Everly and the haunting voice of Roy Orbison\, brought to life with the powerful accompaniment of the Variety Show Digital Band and Orchestra through some of the greatest songs ever written.\n\n"One Night\, Two Icons\, Endless Memories"\n.. A Musical Anniversary You Can't Miss!\n\nEntry Cost\nAll tickets $74.95  - Member: $74.95\n\nAdult: $79.95\n\nConcession: $74.95 \n\n*$1.65 per ticket booking fee applies.\n\nTo book wheelchair accessible seating please call the box office on 02 4823 4999.
LOCATION:\, 163 Auburn Street\, Goulburn\, NSW 2580\, NSW\, 2580
END:VEVENT
END:VCALENDAR
