BEGIN:VCALENDAR
VERSION:2.0
PRODID:-//My Community Diary//iCal Event//EN
CALSCALE:GREGORIAN
METHOD:PUBLISH
BEGIN:VEVENT
UID:4cebd74d-30cb-4fb5-826b-9538b8eb58db
DTSTAMP:20260422T052211Z
DTSTART;VALUE=DATE:20261121
DTEND;VALUE=DATE:20261122
SUMMARY:The Entrance Market
DESCRIPTION:Discover the best of the Central Coast with a variety of local products\, from fresh produce to handcrafted treasures.\n\nThe Entrance Market is held on the thrid Saturday of the month.
LOCATION:\, Marine Parade\, The Entrance\, NSW 2261\, NSW\, 2261
RRULE:FREQ=DAILY;INTERVAL=1;UNTIL=20261123T000000Z
END:VEVENT
END:VCALENDAR
