BEGIN:VCALENDAR
VERSION:2.0
PRODID:-//My Community Diary//iCal Event//EN
CALSCALE:GREGORIAN
METHOD:PUBLISH
BEGIN:VEVENT
UID:3692172a-c12c-44a6-81e2-87bf173f1831
DTSTAMP:20260422T021843Z
DTSTART;VALUE=DATE:20260919
DTEND;VALUE=DATE:20260920
SUMMARY:The Entrance Market
DESCRIPTION:Discover the best of the Central Coast with a variety of local products\, from fresh produce to handcrafted treasures.\n\nThe Entrance Market is held on the thrid Saturday of the month.
LOCATION:\, Marine Parade\, The Entrance\, NSW 2261\, NSW\, 2261
RRULE:FREQ=DAILY;INTERVAL=1;UNTIL=20260921T000000Z
END:VEVENT
END:VCALENDAR
