BEGIN:VCALENDAR
VERSION:2.0
PRODID:-//My Community Diary//iCal Event//EN
CALSCALE:GREGORIAN
METHOD:PUBLISH
BEGIN:VEVENT
UID:6994805e-42a7-4d20-b534-55062963c2cd
DTSTAMP:20260422T015620Z
DTSTART;VALUE=DATE:20260620
DTEND;VALUE=DATE:20260621
SUMMARY:The Entrance Market
DESCRIPTION:Discover the best of the Central Coast with a variety of local products\, from fresh produce to handcrafted treasures.\n\nThe Entrance Market is held on the thrid Saturday of the month.
LOCATION:\, Marine Parade\, The Entrance\, NSW 2261\, NSW\, 2261
RRULE:FREQ=DAILY;INTERVAL=1;UNTIL=20260622T000000Z
END:VEVENT
END:VCALENDAR
