BEGIN:VCALENDAR
VERSION:2.0
PRODID:-//My Community Diary//iCal Event//EN
CALSCALE:GREGORIAN
METHOD:PUBLISH
BEGIN:VEVENT
UID:d26e7bc4-3b9e-4b31-b58b-d6e33e5a5517
DTSTAMP:20260421T224118Z
DTSTART;VALUE=DATE:20261212
DTEND;VALUE=DATE:20261213
SUMMARY:The Enterprise Band
DESCRIPTION:Come along and sing and dance with this amazing Vietnamese Band - The Enterprise Band!\n\nFree Entertainment on every Friday and Saturday night in The Auditorium.
LOCATION:\, 1 Bartley Street\, Canley Vale\, NSW 2166\, NSW\, 2166
RRULE:FREQ=DAILY;INTERVAL=1;UNTIL=20261214T000000Z
END:VEVENT
END:VCALENDAR
