BEGIN:VCALENDAR
VERSION:2.0
PRODID:-//My Community Diary//iCal Event//EN
CALSCALE:GREGORIAN
METHOD:PUBLISH
BEGIN:VEVENT
UID:f3f7f5a5-2c1b-471a-9b75-13749b402d57
DTSTAMP:20260422T032934Z
DTSTART;VALUE=DATE:20260911
DTEND;VALUE=DATE:20260912
SUMMARY:The Enterprise Band
DESCRIPTION:Come along and sing and dance with this amazing Vietnamese Band - The Enterprise Band!\n\nFree Entertainment on every Friday and Saturday night in The Auditorium.
LOCATION:\, 1 Bartley Street\, Canley Vale\, NSW 2166\, NSW\, 2166
RRULE:FREQ=DAILY;INTERVAL=1;UNTIL=20260913T000000Z
END:VEVENT
END:VCALENDAR
