BEGIN:VCALENDAR
VERSION:2.0
PRODID:-//My Community Diary//iCal Event//EN
CALSCALE:GREGORIAN
METHOD:PUBLISH
BEGIN:VEVENT
UID:01fa195b-5484-4a84-b519-453c19ce0f0b
DTSTAMP:20260422T021922Z
DTSTART;VALUE=DATE:20260828
DTEND;VALUE=DATE:20260829
SUMMARY:The Enterprise Band
DESCRIPTION:Come along and sing and dance with this amazing Vietnamese Band - The Enterprise Band!\n\nFree Entertainment on every Friday and Saturday night in The Auditorium.
LOCATION:\, 1 Bartley Street\, Canley Vale\, NSW 2166\, NSW\, 2166
RRULE:FREQ=DAILY;INTERVAL=1;UNTIL=20260830T000000Z
END:VEVENT
END:VCALENDAR
