BEGIN:VCALENDAR
VERSION:2.0
PRODID:-//My Community Diary//iCal Event//EN
CALSCALE:GREGORIAN
METHOD:PUBLISH
BEGIN:VEVENT
UID:8e586b72-b110-4c9d-b7a1-a58218c38324
DTSTAMP:20260422T033800Z
DTSTART;VALUE=DATE:20260717
DTEND;VALUE=DATE:20260718
SUMMARY:The Enterprise Band
DESCRIPTION:Come along and sing and dance with this amazing Vietnamese Band - The Enterprise Band!\n\nFree Entertainment on every Friday and Saturday night in The Auditorium.
LOCATION:\, 1 Bartley Street\, Canley Vale\, NSW 2166\, NSW\, 2166
RRULE:FREQ=DAILY;INTERVAL=1;UNTIL=20260719T000000Z
END:VEVENT
END:VCALENDAR
