BEGIN:VCALENDAR
VERSION:2.0
PRODID:-//My Community Diary//iCal Event//EN
CALSCALE:GREGORIAN
METHOD:PUBLISH
BEGIN:VEVENT
UID:fd9c25de-6664-436c-a28b-0f7ad891fe4f
DTSTAMP:20260422T002716Z
DTSTART;VALUE=DATE:20260605
DTEND;VALUE=DATE:20260606
SUMMARY:The Enterprise Band
DESCRIPTION:Come along and sing and dance with this amazing Vietnamese Band - The Enterprise Band!\n\nFree Entertainment on every Friday and Saturday night in The Auditorium.
LOCATION:\, 1 Bartley Street\, Canley Vale\, NSW 2166\, NSW\, 2166
RRULE:FREQ=DAILY;INTERVAL=1;UNTIL=20260607T000000Z
END:VEVENT
END:VCALENDAR
