BEGIN:VCALENDAR
VERSION:2.0
PRODID:-//My Community Diary//iCal Event//EN
CALSCALE:GREGORIAN
METHOD:PUBLISH
BEGIN:VEVENT
UID:3992bc52-6cc3-4608-80e1-b0afbc182264
DTSTAMP:20260422T005210Z
DTSTART;VALUE=DATE:20260919
DTEND;VALUE=DATE:20260920
SUMMARY:The Elevator by Eloise Snape
DESCRIPTION:Margot's back from maternity leave — and she's not messing around.\n\nBefore nappies and sleepless nights\, Eco Engines was spiralling through a PR meltdown\, tanking faster than you can say "carbon footprint." Now she's back in the CEO chair\, ready to rally her team of corporate eco-warriors and clean up the mess.\n\nBut her comeback hits a snag when she gets stuck in the office lift. As tensions rise\, Margot's cool starts melting faster than the polar ice caps.\n\nThe Elevator is a sharp\, funny and fearless new Australian comedy that's anything but clean. Green washing\, corporate spin and tangled lies — playwright Eloise Snape delivers a whirlwind of laughs and truth bombs in this no-fluff office satire.
LOCATION:\, 78 McDougall Street\, Kirribilli\, NSW 2061\, NSW\, 2061
RRULE:FREQ=DAILY;INTERVAL=1;UNTIL=20260921T000000Z
END:VEVENT
END:VCALENDAR
