BEGIN:VCALENDAR
VERSION:2.0
PRODID:-//My Community Diary//iCal Event//EN
CALSCALE:GREGORIAN
METHOD:PUBLISH
BEGIN:VEVENT
UID:4fc2f93d-a402-4198-9cd4-c990543e5e45
DTSTAMP:20260422T002729Z
DTSTART;VALUE=DATE:20260710
DTEND;VALUE=DATE:20260711
SUMMARY:The Dapto Chaser by Mary Rachel Brown
DESCRIPTION:When your beloved dog's your golden ticket and your family's a ticking time bomb\, what could possibly go wrong? The Dapto Chaser is a biting\, black comedy about chasing dreams\, racking up debts\, and the cut-throat world of greyhound racing.\n\nWith the odds stacked against them\, the Sinclair family's biggest gamble might not be on their champion\, Boy Named Sue — but on each other.\n\nMary Rachel Brown's quintessentially Australian play dives into the brutal reality of addiction to the track\, where every win is a fleeting victory and every loss tastes like stale kibble.\n\nIt's gritty\, it's raw\, and it's laugh-out-loud funny\, but at its heart\, it's about the lengths we'll go to for a chance at a better life.
LOCATION:\, 78 McDougall Street\, Kirribilli\, NSW 2061\, NSW\, 2061
RRULE:FREQ=DAILY;INTERVAL=1;UNTIL=20260712T000000Z
END:VEVENT
END:VCALENDAR
