BEGIN:VCALENDAR
VERSION:2.0
PRODID:-//My Community Diary//iCal Event//EN
CALSCALE:GREGORIAN
METHOD:PUBLISH
BEGIN:VEVENT
UID:04b5296f-0354-453f-bf49-d1871a23afba
DTSTAMP:20260422T000544Z
DTSTART;VALUE=DATE:20260713
DTEND;VALUE=DATE:20260714
SUMMARY:The Comedy Of Errors
DESCRIPTION:Step into a night of riotous comedy\, candlelit revelry and immersive theatre as Shepherd's Purse Theatre Company presents Shakespeare's The Comedy of Errors at Flutterbies Cottage Café\, Tyalgum.\n\nPerformed throughout the charming spaces of the café and set within a bustling marketplace\, this joyful dinner theatre experience surrounds you with live performance\, music and mischief accompanied by sumptous two course banquet style dinner. \n \nGuests are encouraged to dress in period costume and become part of the world\, as servants\, merchants and townsfolk collide in a night of laughter\, feasting and theatrical magic.\n \nThe story\, in brief:\nWhen two sets of identical twins are unknowingly reunited in the same town\, confusion reigns — leading to mistaken identities\, wrongful arrests and one of Shakespeare's fastest\, funniest comedies
LOCATION:\, 23 Coolman Street Street\, Tyalgum\, NSW 2484\, NSW\, 2484
RRULE:FREQ=DAILY;INTERVAL=1;UNTIL=20260715T000000Z
END:VEVENT
END:VCALENDAR
