BEGIN:VCALENDAR
VERSION:2.0
PRODID:-//My Community Diary//iCal Event//EN
CALSCALE:GREGORIAN
METHOD:PUBLISH
BEGIN:VEVENT
UID:69b9290b-6a5d-4c0a-9628-d5fc2a6d2c19
DTSTAMP:20260421T224109Z
DTSTART;VALUE=DATE:20270606
DTEND;VALUE=DATE:20270607
SUMMARY:The Central Coast Farmers Market
DESCRIPTION:A true paddock-to-plate experience on the Central Coast\, The Central Coast Farmers Market showcases the region's freshest produce every Sunday. Visitors can shop directly from local farmers\, oyster growers\, orchardists and specialty food producers\, alongside gourmet brunch options\, artisan stalls\, boutique beverages and handcrafted goods.\nWith live music\, kids' activities and a welcoming community feel\, it's a standout weekly event for anyone seeking authentic local food culture.
LOCATION:\, Showground Road\, Gosford\, NSW 2250\, NSW\, 2250
RRULE:FREQ=DAILY;INTERVAL=1;UNTIL=20270608T000000Z
END:VEVENT
END:VCALENDAR
