BEGIN:VCALENDAR
VERSION:2.0
PRODID:-//My Community Diary//iCal Event//EN
CALSCALE:GREGORIAN
METHOD:PUBLISH
BEGIN:VEVENT
UID:49a6d37d-fcdd-41fb-8bbd-62fd9ec08445
DTSTAMP:20260421T225701Z
DTSTART;VALUE=DATE:20270207
DTEND;VALUE=DATE:20270208
SUMMARY:The Central Coast Farmers Market
DESCRIPTION:A true paddock-to-plate experience on the Central Coast\, The Central Coast Farmers Market showcases the region's freshest produce every Sunday. Visitors can shop directly from local farmers\, oyster growers\, orchardists and specialty food producers\, alongside gourmet brunch options\, artisan stalls\, boutique beverages and handcrafted goods.\nWith live music\, kids' activities and a welcoming community feel\, it's a standout weekly event for anyone seeking authentic local food culture.
LOCATION:\, Showground Road\, Gosford\, NSW 2250\, NSW\, 2250
RRULE:FREQ=DAILY;INTERVAL=1;UNTIL=20270209T000000Z
END:VEVENT
END:VCALENDAR
