BEGIN:VCALENDAR
VERSION:2.0
PRODID:-//My Community Diary//iCal Event//EN
CALSCALE:GREGORIAN
METHOD:PUBLISH
BEGIN:VEVENT
UID:a613f7e3-c339-4d24-8be0-e83b041ddf63
DTSTAMP:20260422T021924Z
DTSTART;VALUE=DATE:20260508
DTEND;VALUE=DATE:20260509
SUMMARY:The Candle Experience
DESCRIPTION:A guided fragrance journey in the heart of Morpeth. \n\nHosted by UAINE's experienced chandlers and fragrance connoisseurs\, enjoy an immersive fragrance journey where you will:\n\n??Explore your fragrance preferences and find their hidden origins.\n???Discover your unique fragrance profile through a personalised evaluation.\n??Unwind\, relax and learn something new about your sense of smell and the magic of scented soy candles.\n??Take home a goody bag with your individually curated UAINE candles.\n\nIn this informative session\, learn about the core ingredients of fragrance\, the important differences between candle waxes\, and the impact that candles and fragrance have on your environment\, health and emotions.\n\nBrowse the UAINE Candle Cellar Door and discover why UAINE is one of the fastest growing candle manufacturers in Australia.\n\nEntry Cost\nAll tickets $49.95 
LOCATION:\, 162 Swan Street\, Morpeth\, NSW 2321\, NSW\, 2321
RRULE:FREQ=DAILY;INTERVAL=1;UNTIL=20260510T000000Z
END:VEVENT
END:VCALENDAR
