BEGIN:VCALENDAR
VERSION:2.0
PRODID:-//My Community Diary//iCal Event//EN
CALSCALE:GREGORIAN
METHOD:PUBLISH
BEGIN:VEVENT
UID:0890c3a5-089b-4c53-901a-36e6425100c9
DTSTAMP:20260422T013838Z
DTSTART;VALUE=DATE:20260517
DTEND;VALUE=DATE:20260518
SUMMARY:The Big Chilly Dip
DESCRIPTION:Dive into the Big Chilly Dip at Dumaresq Dam on Sunday morning after The Big Chill Festival\,  with a cold plunge\, swim\, or just cheer on the wild ones\, then warm up with a bacon and egg roll and a hot coffee. Tickets for the dip are sold separately and places are limited.
LOCATION:\, 458 Dumaresq Dam Rd\, Armidale\, NSW 2350\, NSW\, 2350
END:VEVENT
END:VCALENDAR
