BEGIN:VCALENDAR
VERSION:2.0
PRODID:-//My Community Diary//iCal Event//EN
CALSCALE:GREGORIAN
METHOD:PUBLISH
BEGIN:VEVENT
UID:c664f368-4d40-4db6-a6f1-5a4d1370b1b0
DTSTAMP:20260421T222413Z
DTSTART;VALUE=DATE:20260523
DTEND;VALUE=DATE:20260524
SUMMARY:The Big Chillout - Queanbeyan
DESCRIPTION:Celebrating the soundtrack that saved Motown.\n\nGet ready to relive the music that defined a generation in The Big Chillout\, a joyous\, soul-stirring celebration of the legendary Big Chill soundtrack and the Motown revival it sparked.\n\nThis powerful live show brings to life the timeless classics of Marvin Gaye\, The Temptations\, The Rolling Stones\, Aretha Franklin\, Creedence Clearwater Revival\, Smokey Robinson\, Spencer Davis Group\, The Band\, Procol Harum\, and many more — performed by a world-class band fronted by two powerhouse vocalists Judah Kelly and Asabi Goodman.\n\nThe first act features the smash-hit original Big Chill soundtrack\, followed by a second act packed with the Deluxe Edition highlights and Motown's biggest hits.\n\nThe Big Chillout is a heartwarming celebration of soul\, connection\, and the classic songs that continue to unite generations.\n\nWhether you're a lifelong fan or discovering these iconic tracks for the first time\, this show is an invitation to sing\, dance\, and chillout like never before.
LOCATION:\, 253 Crawford St\, Queanbeyan\, NSW 2620\, NSW\, 2620
END:VEVENT
END:VCALENDAR
