BEGIN:VCALENDAR
VERSION:2.0
PRODID:-//My Community Diary//iCal Event//EN
CALSCALE:GREGORIAN
METHOD:PUBLISH
BEGIN:VEVENT
UID:a67ec416-b1cf-46af-9d55-184084ec6776
DTSTAMP:20260422T021157Z
DTSTART;VALUE=DATE:20261101
DTEND;VALUE=DATE:20261102
SUMMARY:The Berry Markets
DESCRIPTION:The Berry Markets is run on the first Sunday of every month except February. \n\nVisitors flock to Berry each month to experience fresh local produce and plants\, unique hand crafted items\, good food and a buzzing atmosphere. \n\nCome and see for yourself what everyone is talking about.
LOCATION:\, 35 Alexandra Street\, Berry\, NSW 2535\, NSW\, 2535
RRULE:FREQ=DAILY;INTERVAL=1;UNTIL=20261103T000000Z
END:VEVENT
END:VCALENDAR
