BEGIN:VCALENDAR
VERSION:2.0
PRODID:-//My Community Diary//iCal Event//EN
CALSCALE:GREGORIAN
METHOD:PUBLISH
BEGIN:VEVENT
UID:c57bed77-10e7-4018-9f7e-15155c4aefb8
DTSTAMP:20260422T101141Z
DTSTART;VALUE=DATE:20260920
DTEND;VALUE=DATE:20260921
SUMMARY:The Australian Naggers Cup
DESCRIPTION:Grab your spouse\, partner or friend  for the annual Australian Naggers Cup at the Condobolin Sports Club. \n\nCompete in various categories such as the Naggers Cup for married couples\, Odds N Sodds for Mixed Couples and Scratch and Handicap events.  \n\nEnjoy lunch provided on-site and a chance to win a prize for best dressed.\n\nEntry Cost\nAll tickets $40 
LOCATION:\, Tasker St\, Condobolin\, NSW 2877\, NSW\, 2877
END:VEVENT
END:VCALENDAR
