BEGIN:VCALENDAR
VERSION:2.0
PRODID:-//My Community Diary//iCal Event//EN
CALSCALE:GREGORIAN
METHOD:PUBLISH
BEGIN:VEVENT
UID:23d49484-508d-4244-b1b9-0bedee1a402b
DTSTAMP:20260421T224319Z
DTSTART;VALUE=DATE:20270116
DTEND;VALUE=DATE:20270117
SUMMARY:Tenterfield Show
DESCRIPTION:The Tenterfield Show is an annual event that showcases the best of the local Tenterfield community. \n\nFrom livestock competitions to arts and crafts exhibitions\, chainsaw events\, and fireworks\, there is something for everyone!
LOCATION:\, Manners Street\, Tenterfield\, NSW 2372\, NSW\, 2372
RRULE:FREQ=DAILY;INTERVAL=1;UNTIL=20270118T000000Z
END:VEVENT
END:VCALENDAR
