BEGIN:VCALENDAR
VERSION:2.0
PRODID:-//My Community Diary//iCal Event//EN
CALSCALE:GREGORIAN
METHOD:PUBLISH
BEGIN:VEVENT
UID:f62a9354-d586-4865-a5fc-fffe4ba5de02
DTSTAMP:20260421T205338Z
DTSTART;VALUE=DATE:20260919
DTEND;VALUE=DATE:20260920
SUMMARY:Tenterfield Farmers and Producers Market
DESCRIPTION:A community-supported local area market encouraging community members to make it\, bake it\, grow it and sew it. Come along for a great morning of markets held on the grounds of the charming Presbyterian Church Hall in Tenterfield.
LOCATION:\, 117 Logan Street\, Tenterfield\, NSW 2372\, NSW\, 2372
RRULE:FREQ=DAILY;INTERVAL=1;UNTIL=20260921T000000Z
END:VEVENT
END:VCALENDAR
