BEGIN:VCALENDAR
VERSION:2.0
PRODID:-//My Community Diary//iCal Event//EN
CALSCALE:GREGORIAN
METHOD:PUBLISH
BEGIN:VEVENT
UID:06331d52-90db-4f64-86e4-583f4731cd9e
DTSTAMP:20260422T083528Z
DTSTART;VALUE=DATE:20260516
DTEND;VALUE=DATE:20260517
SUMMARY:Tenterfield Farmers and Producers Market
DESCRIPTION:A community-supported local area market encouraging community members to make it\, bake it\, grow it and sew it. Come along for a great morning of markets held on the grounds of the charming Presbyterian Church Hall in Tenterfield.
LOCATION:\, 117 Logan Street\, Tenterfield\, NSW 2372\, NSW\, 2372
RRULE:FREQ=DAILY;INTERVAL=1;UNTIL=20260518T000000Z
END:VEVENT
END:VCALENDAR
