BEGIN:VCALENDAR
VERSION:2.0
PRODID:-//My Community Diary//iCal Event//EN
CALSCALE:GREGORIAN
METHOD:PUBLISH
BEGIN:VEVENT
UID:7be7371d-385e-4818-91de-b13f06d952fc
DTSTAMP:20260422T033808Z
DTSTART;VALUE=DATE:20260619
DTEND;VALUE=DATE:20260620
SUMMARY:Tea Cosy Exhibition
DESCRIPTION:Discover a delightful array of handcrafted tea cosies—each one a unique blend of artistry and tradition. \nCome along\, admire the talent on display\, and vote for your favourite cosy creation!\n\nIf you would like to enter a Tea Cosy into the exhibition please register via the booking link.\n\nWhether you're a tea lover\, a craft enthusiast\, or just looking for a cosy way to spend your Saturday morning\, this event is sure to warm your heart.\n\nFree entry – all welcome!
LOCATION:\, 11 Rural Street\, Lismore\, NSW 2480\, NSW\, 2480
RRULE:FREQ=DAILY;INTERVAL=1;UNTIL=20260621T000000Z
END:VEVENT
END:VCALENDAR
