BEGIN:VCALENDAR
VERSION:2.0
PRODID:-//My Community Diary//iCal Event//EN
CALSCALE:GREGORIAN
METHOD:PUBLISH
BEGIN:VEVENT
UID:68fc8b54-7a07-4a39-b0b2-923f7b27acc6
DTSTAMP:20260422T003010Z
DTSTART;VALUE=DATE:20260926
DTEND;VALUE=DATE:20260927
SUMMARY:Taste of the Hunter Valley
DESCRIPTION:Taste of the Hunter Valley brings the best wineries\, chefs\, distillers and stalls from the Hunter Region into the Newcastle CBD. \n\nGather the gang\, jump on the tram and experience the ultimate Hunter Tour right on Newcastle harbour!\n\nThis isn't your typical Hunter Valley wine tour — this is an experience for the entire family! Guests can enjoy wine\, beer and spirits\, Discover Stage Sessions\, mini golf and giant lawn games\, jumping castles and family rides\, cheese\, deli and market stalls\, food trucks\, live local music and face painting.\n\nWhether you fancy a shiraz\, negroni or pale ale\, there is something for everyone to enjoy. \n\nSample new wines\, enjoy a glass by the live music and take your favourite bottles home. Perhaps a cheese plate or wood fire pizza is more your style while experiencing a guided tasting at the Discover Stage\, or challenge your mates to a round of golf!\n\nNo one is missing out at this event\, with free entry for kids — bring the entire family for a day out on the jumping castles. \n\nA limited number of 2026 show bags are also available for pre-purchase.\n\nEntry Cost\nAdult $19.95  - Event Entry \nTasting Glass \n6 Free Tasting Tokens\nStudent $12.95  - Youth 16yr & 17yr \nEvent entry in accompany with a responsible adult\nChild $0  - Free child entry in accompany with a responsible adult
LOCATION:\, Corner Scott St\, Watt St\,\, Newcastle\, NSW 2300\, NSW\, 2300
RRULE:FREQ=DAILY;INTERVAL=1;UNTIL=20260928T000000Z
END:VEVENT
END:VCALENDAR
