BEGIN:VCALENDAR
VERSION:2.0
PRODID:-//My Community Diary//iCal Event//EN
CALSCALE:GREGORIAN
METHOD:PUBLISH
BEGIN:VEVENT
UID:5732bbe8-773a-4bd3-a367-cca505743fee
DTSTAMP:20260422T054227Z
DTSTART;VALUE=DATE:20260510
DTEND;VALUE=DATE:20260511
SUMMARY:Taralga Seasonal Markets
DESCRIPTION:The Taralga Seasonal Market is a charming  event held in the picturesque town of Taralga. Hosting their Easter\, Mother's Day\, Father's Day and Christmas markets \, local vendors gather to offer a variety of handmade goods\, fresh produce\, artisanal products\, and much more. \n\nIt's a great opportunity to experience the warmth of the community\, support local artisans\, and enjoy the relaxed\, country atmosphere. Whether you're hunting for unique gifts\, tasty treats\, or just a fun day out\, the Taralga Seasonal Market is a must-visit for anyone in the area.\n\nSausage sizzle and bacon and egg rolls available.
LOCATION:\, 49 Cooper Street\, Taralga\, NSW 2580\, NSW\, 2580
RRULE:FREQ=DAILY;INTERVAL=1;UNTIL=20260512T000000Z
END:VEVENT
END:VCALENDAR
