BEGIN:VCALENDAR
VERSION:2.0
PRODID:-//My Community Diary//iCal Event//EN
CALSCALE:GREGORIAN
METHOD:PUBLISH
BEGIN:VEVENT
UID:0a3995a4-1ba8-4544-80ef-0eeb6de7f51e
DTSTAMP:20260422T071446Z
DTSTART;VALUE=DATE:20260606
DTEND;VALUE=DATE:20260607
SUMMARY:Taralga Art Show
DESCRIPTION:The Taralga Progress Association has the pleasure of presenting the annual Taralga Art Show which is held over the June long weekend in the Taralga War Memorial Hall. \n\nThe Taralga Art Show is renowned for showcasing original and new works by highly talented artists from Taralga and surrounding districts.\n\nArtwork will be on sale. The opening night on Saturday will include refreshments in the ticket price.\n\nEntry Cost\nAll tickets $2  - $2.00 day time entry and $10.00 entry for official opening on Saturday evening includes refreshments
LOCATION:\, Orchard Street\, Taralga\, NSW 2580\, NSW\, 2580
RRULE:FREQ=DAILY;INTERVAL=1;UNTIL=20260608T000000Z
END:VEVENT
END:VCALENDAR
