BEGIN:VCALENDAR
VERSION:2.0
PRODID:-//My Community Diary//iCal Event//EN
CALSCALE:GREGORIAN
METHOD:PUBLISH
BEGIN:VEVENT
UID:e374a4bc-05f4-4eea-a86a-bd94087b3087
DTSTAMP:20260422T035610Z
DTSTART;VALUE=DATE:20261212
DTEND;VALUE=DATE:20261213
SUMMARY:Tamworth Community Saturday Markets
DESCRIPTION:Tamworth Community Saturday Markets (TCSM) is a not-for-profit organisation.\n\nTheir mission is to add value to the Tamworth community by offering a space to connect people to producers and suppliers who are offering a range of products that are locally produced\, seasonal\, ethical\, fresh\, handmade\, repurposed and/or that little bit different.\n\nThe market is held on every 2nd\, 4th and 5th Saturday of each month. It runs from 8.00am to 1.00pm.
LOCATION:\, Kable Avenue\, Tamworth\, NSW 2340\, NSW\, 2340
RRULE:FREQ=DAILY;INTERVAL=1;UNTIL=20261214T000000Z
END:VEVENT
END:VCALENDAR
