BEGIN:VCALENDAR
VERSION:2.0
PRODID:-//My Community Diary//iCal Event//EN
CALSCALE:GREGORIAN
METHOD:PUBLISH
BEGIN:VEVENT
UID:c25edd91-6470-4d6c-b291-ddaddc0d220c
DTSTAMP:20260421T205500Z
DTSTART;VALUE=DATE:20260829
DTEND;VALUE=DATE:20260830
SUMMARY:Tamworth Community Saturday Markets
DESCRIPTION:Tamworth Community Saturday Markets (TCSM) is a not-for-profit organisation.\n\nTheir mission is to add value to the Tamworth community by offering a space to connect people to producers and suppliers who are offering a range of products that are locally produced\, seasonal\, ethical\, fresh\, handmade\, repurposed and/or that little bit different.\n\nThe market is held on every 2nd\, 4th and 5th Saturday of each month. It runs from 8.00am to 1.00pm.
LOCATION:\, Kable Avenue\, Tamworth\, NSW 2340\, NSW\, 2340
RRULE:FREQ=DAILY;INTERVAL=1;UNTIL=20260831T000000Z
END:VEVENT
END:VCALENDAR
