BEGIN:VCALENDAR
VERSION:2.0
PRODID:-//My Community Diary//iCal Event//EN
CALSCALE:GREGORIAN
METHOD:PUBLISH
BEGIN:VEVENT
UID:d49a4b83-5122-45e3-a439-c11790546d59
DTSTAMP:20260421T222406Z
DTSTART;VALUE=DATE:20260808
DTEND;VALUE=DATE:20260809
SUMMARY:Tamworth Community Saturday Markets
DESCRIPTION:Tamworth Community Saturday Markets (TCSM) is a not-for-profit organisation.\n\nTheir mission is to add value to the Tamworth community by offering a space to connect people to producers and suppliers who are offering a range of products that are locally produced\, seasonal\, ethical\, fresh\, handmade\, repurposed and/or that little bit different.\n\nThe market is held on every 2nd\, 4th and 5th Saturday of each month. It runs from 8.00am to 1.00pm.
LOCATION:\, Kable Avenue\, Tamworth\, NSW 2340\, NSW\, 2340
RRULE:FREQ=DAILY;INTERVAL=1;UNTIL=20260810T000000Z
END:VEVENT
END:VCALENDAR
